BEGIN:VCALENDAR
VERSION:2.0
PRODID:-//Queen Anne First School - ECPv4.9.8//NONSGML v1.0//EN
CALSCALE:GREGORIAN
METHOD:PUBLISH
X-WR-CALNAME:Queen Anne First School
X-ORIGINAL-URL:https://www.queenannefirstschool.org.uk
X-WR-CALDESC:Events for Queen Anne First School
BEGIN:VTIMEZONE
TZID:UTC
BEGIN:STANDARD
TZOFFSETFROM:+0000
TZOFFSETTO:+0000
TZNAME:UTC
DTSTART:20260101T000000
END:STANDARD
END:VTIMEZONE
BEGIN:VEVENT
DTSTART;TZID="UTC":20260313T090000
DTEND;TZID="UTC":20260313T150000
DTSTAMP:20260420T064345
CREATED:20260113T122014Z
LAST-MODIFIED:20260113T122014Z
UID:5960-1773392400-1773414000@www.queenannefirstschool.org.uk
SUMMARY:Years 3 & 4 Bikeability
DESCRIPTION:Information to follow. \n
URL:https://www.queenannefirstschool.org.uk/event/years-3-4-bikeability/
END:VEVENT
END:VCALENDAR