BEGIN:VCALENDAR
VERSION:2.0
PRODID:-//Queen Anne First School - ECPv4.9.8//NONSGML v1.0//EN
CALSCALE:GREGORIAN
METHOD:PUBLISH
X-WR-CALNAME:Queen Anne First School
X-ORIGINAL-URL:https://www.queenannefirstschool.org.uk
X-WR-CALDESC:Events for Queen Anne First School
BEGIN:VTIMEZONE
TZID:UTC
BEGIN:STANDARD
TZOFFSETFROM:+0000
TZOFFSETTO:+0000
TZNAME:UTC
DTSTART:20250101T000000
END:STANDARD
END:VTIMEZONE
BEGIN:VEVENT
DTSTART;TZID="UTC":20251125T130000
DTEND;TZID="UTC":20251125T151500
DTSTAMP:20260420T024928
CREATED:20251007T103525Z
LAST-MODIFIED:20251007T103525Z
UID:5772-1764075600-1764083700@www.queenannefirstschool.org.uk
SUMMARY:Years 3 & 4 @ Athletics Event
DESCRIPTION:The children will walk back to Queen Anne for a usual dismissal time. Children can attend stay and play as usual. Dress: Please send your child to school in their PE kit and weather appropriate gear (e.g. raincoat/warm coat) \n
URL:https://www.queenannefirstschool.org.uk/event/years-3-4-athletics-event/
END:VEVENT
END:VCALENDAR