BEGIN:VCALENDAR
VERSION:2.0
PRODID:-//Queen Anne First School - ECPv4.9.8//NONSGML v1.0//EN
CALSCALE:GREGORIAN
METHOD:PUBLISH
X-WR-CALNAME:Queen Anne First School
X-ORIGINAL-URL:https://www.queenannefirstschool.org.uk
X-WR-CALDESC:Events for Queen Anne First School
BEGIN:VTIMEZONE
TZID:UTC
BEGIN:STANDARD
TZOFFSETFROM:+0000
TZOFFSETTO:+0000
TZNAME:UTC
DTSTART:20260101T000000
END:STANDARD
END:VTIMEZONE
BEGIN:VEVENT
DTSTART;TZID="UTC":20260316T093000
DTEND;TZID="UTC":20260316T123000
DTSTAMP:20260420T062050
CREATED:20260113T115733Z
LAST-MODIFIED:20260113T115733Z
UID:5947-1773653400-1773664200@www.queenannefirstschool.org.uk
SUMMARY:Year 1 @ Windsor Castle
DESCRIPTION:Information to follow. \n
URL:https://www.queenannefirstschool.org.uk/event/year-1-windsor-castle-6/
END:VEVENT
END:VCALENDAR