BEGIN:VCALENDAR
VERSION:2.0
PRODID:-//Queen Anne First School - ECPv4.9.8//NONSGML v1.0//EN
CALSCALE:GREGORIAN
METHOD:PUBLISH
X-WR-CALNAME:Queen Anne First School
X-ORIGINAL-URL:https://www.queenannefirstschool.org.uk
X-WR-CALDESC:Events for Queen Anne First School
BEGIN:VTIMEZONE
TZID:UTC
BEGIN:STANDARD
TZOFFSETFROM:+0000
TZOFFSETTO:+0000
TZNAME:UTC
DTSTART:20260101T000000
END:STANDARD
END:VTIMEZONE
BEGIN:VEVENT
DTSTART;TZID="UTC":20260707T110000
DTEND;TZID="UTC":20260707T143000
DTSTAMP:20260420T062409
CREATED:20260128T160425Z
LAST-MODIFIED:20260128T160425Z
UID:6037-1783422000-1783434600@www.queenannefirstschool.org.uk
SUMMARY:Sports Day
DESCRIPTION:Timings and further information to be confirmed. \n
URL:https://www.queenannefirstschool.org.uk/event/sports-day-7/
END:VEVENT
END:VCALENDAR