BEGIN:VCALENDAR
VERSION:2.0
PRODID:-//Queen Anne First School - ECPv4.9.8//NONSGML v1.0//EN
CALSCALE:GREGORIAN
METHOD:PUBLISH
X-WR-CALNAME:Queen Anne First School
X-ORIGINAL-URL:https://www.queenannefirstschool.org.uk
X-WR-CALDESC:Events for Queen Anne First School
BEGIN:VTIMEZONE
TZID:UTC
BEGIN:STANDARD
TZOFFSETFROM:+0000
TZOFFSETTO:+0000
TZNAME:UTC
DTSTART:20260101T000000
END:STANDARD
END:VTIMEZONE
BEGIN:VEVENT
DTSTART;TZID="UTC":20260320T080000
DTEND;TZID="UTC":20260320T180000
DTSTAMP:20260420T025510
CREATED:20260303T145622Z
LAST-MODIFIED:20260303T145622Z
UID:6059-1773993600-1774029600@www.queenannefirstschool.org.uk
SUMMARY:Red Nose Day
DESCRIPTION:Children can wear one red item for a donation. \n
URL:https://www.queenannefirstschool.org.uk/event/red-nose-day-3/
END:VEVENT
END:VCALENDAR