BEGIN:VCALENDAR
VERSION:2.0
PRODID:-//Queen Anne First School - ECPv4.9.8//NONSGML v1.0//EN
CALSCALE:GREGORIAN
METHOD:PUBLISH
X-WR-CALNAME:Queen Anne First School
X-ORIGINAL-URL:https://www.queenannefirstschool.org.uk
X-WR-CALDESC:Events for Queen Anne First School
BEGIN:VTIMEZONE
TZID:UTC
BEGIN:STANDARD
TZOFFSETFROM:+0000
TZOFFSETTO:+0000
TZNAME:UTC
DTSTART:20260101T000000
END:STANDARD
END:VTIMEZONE
BEGIN:VEVENT
DTSTART;TZID="UTC":20260320T150000
DTEND;TZID="UTC":20260320T153000
DTSTAMP:20260420T024207
CREATED:20260115T103105Z
LAST-MODIFIED:20260115T103105Z
UID:6001-1774018800-1774020600@www.queenannefirstschool.org.uk
SUMMARY:QAPAFA – Cake Sale
DESCRIPTION:Hosted by Year 1.  Cash donations *only* and remember your Tupperware to bring your treats home. \n
URL:https://www.queenannefirstschool.org.uk/event/qapafa-cake-sale-13/
END:VEVENT
END:VCALENDAR