BEGIN:VCALENDAR
VERSION:2.0
PRODID:-//Queen Anne First School - ECPv4.9.8//NONSGML v1.0//EN
CALSCALE:GREGORIAN
METHOD:PUBLISH
X-WR-CALNAME:Queen Anne First School
X-ORIGINAL-URL:https://www.queenannefirstschool.org.uk
X-WR-CALDESC:Events for Queen Anne First School
BEGIN:VTIMEZONE
TZID:UTC
BEGIN:STANDARD
TZOFFSETFROM:+0000
TZOFFSETTO:+0000
TZNAME:UTC
DTSTART:20250101T000000
END:STANDARD
END:VTIMEZONE
BEGIN:VEVENT
DTSTART;TZID="UTC":20251121T150000
DTEND;TZID="UTC":20251121T153000
DTSTAMP:20260419T231951
CREATED:20251111T145702Z
LAST-MODIFIED:20251111T145702Z
UID:5818-1763737200-1763739000@www.queenannefirstschool.org.uk
SUMMARY:QAPAFA – Cake Sale
DESCRIPTION:\nHosted by Year 3.  Cash donations *only* and remember your Tupperware to bring your treats home. \n\n
URL:https://www.queenannefirstschool.org.uk/event/qapafa-cake-sale-11/
END:VEVENT
END:VCALENDAR