BEGIN:VCALENDAR
VERSION:2.0
PRODID:-//Queen Anne First School - ECPv4.9.8//NONSGML v1.0//EN
CALSCALE:GREGORIAN
METHOD:PUBLISH
X-WR-CALNAME:Queen Anne First School
X-ORIGINAL-URL:https://www.queenannefirstschool.org.uk
X-WR-CALDESC:Events for Queen Anne First School
BEGIN:VTIMEZONE
TZID:UTC
BEGIN:STANDARD
TZOFFSETFROM:+0000
TZOFFSETTO:+0000
TZNAME:UTC
DTSTART:20250101T000000
END:STANDARD
END:VTIMEZONE
BEGIN:VEVENT
DTSTART;TZID="UTC":20251003T150000
DTEND;TZID="UTC":20251003T160000
DTSTAMP:20260420T064610
CREATED:20250923T113558Z
LAST-MODIFIED:20250923T113915Z
UID:5749-1759503600-1759507200@www.queenannefirstschool.org.uk
SUMMARY:QAPAFA – Cake Sale
DESCRIPTION:Hosted by Year 4.  Cash donations *only* and remember your Tupperware to bring your treats home. \n
URL:https://www.queenannefirstschool.org.uk/event/qapafa-cake-sale-10/
END:VEVENT
END:VCALENDAR