BEGIN:VCALENDAR
VERSION:2.0
PRODID:-//Queen Anne First School - ECPv4.9.8//NONSGML v1.0//EN
CALSCALE:GREGORIAN
METHOD:PUBLISH
X-WR-CALNAME:Queen Anne First School
X-ORIGINAL-URL:https://www.queenannefirstschool.org.uk
X-WR-CALDESC:Events for Queen Anne First School
BEGIN:VTIMEZONE
TZID:UTC
BEGIN:STANDARD
TZOFFSETFROM:+0000
TZOFFSETTO:+0000
TZNAME:UTC
DTSTART:20260101T000000
END:STANDARD
END:VTIMEZONE
BEGIN:VEVENT
DTSTART;TZID="UTC":20260313T153000
DTEND;TZID="UTC":20260313T180000
DTSTAMP:20260420T031331
CREATED:20260113T122250Z
LAST-MODIFIED:20260113T122250Z
UID:5962-1773415800-1773424800@www.queenannefirstschool.org.uk
SUMMARY:QAPAFA – Bunny Hop Bingo
DESCRIPTION:Two sessions available to book\, mixed year groups 3.30pm – 4.30pm and 5pm – 6pm \n
URL:https://www.queenannefirstschool.org.uk/event/qapafa-bunny-hop-bingo-3/
END:VEVENT
END:VCALENDAR