BEGIN:VCALENDAR
VERSION:2.0
PRODID:-//Queen Anne First School - ECPv4.9.8//NONSGML v1.0//EN
CALSCALE:GREGORIAN
METHOD:PUBLISH
X-WR-CALNAME:Queen Anne First School
X-ORIGINAL-URL:https://www.queenannefirstschool.org.uk
X-WR-CALDESC:Events for Queen Anne First School
BEGIN:VTIMEZONE
TZID:UTC
BEGIN:STANDARD
TZOFFSETFROM:+0000
TZOFFSETTO:+0000
TZNAME:UTC
DTSTART:20250101T000000
END:STANDARD
END:VTIMEZONE
BEGIN:VEVENT
DTSTART;TZID="UTC":20251209T151500
DTEND;TZID="UTC":20251209T161500
DTSTAMP:20260420T031842
CREATED:20251104T084403Z
LAST-MODIFIED:20251104T084436Z
UID:5810-1765293300-1765296900@www.queenannefirstschool.org.uk
SUMMARY:Our Open Classrooms!
DESCRIPTION:You’re Invited to Our Open Classrooms! \nThis is a wonderful chance to step into your child’s world\, explore their classroom and enjoy looking at their work together with your child. \nFor those children who attend Stay and Play\, you’ll be able to visit your child’s classroom at collection time with Mrs Street. \n  \n
URL:https://www.queenannefirstschool.org.uk/event/our-open-classrooms/
END:VEVENT
END:VCALENDAR