BEGIN:VCALENDAR
VERSION:2.0
PRODID:-//Queen Anne First School - ECPv4.9.8//NONSGML v1.0//EN
CALSCALE:GREGORIAN
METHOD:PUBLISH
X-WR-CALNAME:Queen Anne First School
X-ORIGINAL-URL:https://www.queenannefirstschool.org.uk
X-WR-CALDESC:Events for Queen Anne First School
BEGIN:VTIMEZONE
TZID:UTC
BEGIN:STANDARD
TZOFFSETFROM:+0000
TZOFFSETTO:+0000
TZNAME:UTC
DTSTART:20270101T000000
END:STANDARD
END:VTIMEZONE
BEGIN:VEVENT
DTSTART;TZID="UTC":20270531T080000
DTEND;TZID="UTC":20270604T180000
DTSTAMP:20260424T211928
CREATED:20251118T134423Z
LAST-MODIFIED:20251118T134423Z
UID:5882-1811750400-1812132000@www.queenannefirstschool.org.uk
SUMMARY:May Holiday
DESCRIPTION:
URL:https://www.queenannefirstschool.org.uk/event/may-holiday-7/
END:VEVENT
END:VCALENDAR