BEGIN:VCALENDAR
VERSION:2.0
PRODID:-//Queen Anne First School - ECPv4.9.8//NONSGML v1.0//EN
CALSCALE:GREGORIAN
METHOD:PUBLISH
X-WR-CALNAME:Queen Anne First School
X-ORIGINAL-URL:https://www.queenannefirstschool.org.uk
X-WR-CALDESC:Events for Queen Anne First School
BEGIN:VTIMEZONE
TZID:UTC
BEGIN:STANDARD
TZOFFSETFROM:+0000
TZOFFSETTO:+0000
TZNAME:UTC
DTSTART:20260101T000000
END:STANDARD
END:VTIMEZONE
BEGIN:VEVENT
DTSTART;TZID="UTC":20260325T151500
DTEND;TZID="UTC":20260325T163000
DTSTAMP:20260420T062436
CREATED:20251120T110438Z
LAST-MODIFIED:20251120T110438Z
UID:5908-1774451700-1774456200@www.queenannefirstschool.org.uk
SUMMARY:Last Playball Club Session
DESCRIPTION:
URL:https://www.queenannefirstschool.org.uk/event/last-playball-club-session-11/
END:VEVENT
END:VCALENDAR