BEGIN:VCALENDAR
VERSION:2.0
PRODID:-//Queen Anne First School - ECPv4.9.8//NONSGML v1.0//EN
CALSCALE:GREGORIAN
METHOD:PUBLISH
X-WR-CALNAME:Queen Anne First School
X-ORIGINAL-URL:https://www.queenannefirstschool.org.uk
X-WR-CALDESC:Events for Queen Anne First School
BEGIN:VTIMEZONE
TZID:UTC
BEGIN:STANDARD
TZOFFSETFROM:+0000
TZOFFSETTO:+0000
TZNAME:UTC
DTSTART:20250101T000000
END:STANDARD
END:VTIMEZONE
BEGIN:VEVENT
DTSTART;TZID="UTC":20251105T090000
DTEND;TZID="UTC":20251105T113000
DTSTAMP:20260420T024207
CREATED:20250612T170030Z
LAST-MODIFIED:20250612T170030Z
UID:5669-1762333200-1762342200@www.queenannefirstschool.org.uk
SUMMARY:Individual School Photographs
DESCRIPTION:
URL:https://www.queenannefirstschool.org.uk/event/individual-school-photographs-5/
END:VEVENT
END:VCALENDAR