BEGIN:VCALENDAR
VERSION:2.0
PRODID:-//Queen Anne First School - ECPv4.9.8//NONSGML v1.0//EN
CALSCALE:GREGORIAN
METHOD:PUBLISH
X-WR-CALNAME:Queen Anne First School
X-ORIGINAL-URL:https://www.queenannefirstschool.org.uk
X-WR-CALDESC:Events for Queen Anne First School
BEGIN:VTIMEZONE
TZID:UTC
BEGIN:STANDARD
TZOFFSETFROM:+0000
TZOFFSETTO:+0000
TZNAME:UTC
DTSTART:20230101T000000
END:STANDARD
END:VTIMEZONE
BEGIN:VEVENT
DTSTART;TZID="UTC":20230912T153000
DTEND;TZID="UTC":20230912T163000
DTSTAMP:20260422T140914
CREATED:20230620T112333Z
LAST-MODIFIED:20230620T112333Z
UID:4378-1694532600-1694536200@www.queenannefirstschool.org.uk
SUMMARY:First uSports Club Session
DESCRIPTION:
URL:https://www.queenannefirstschool.org.uk/event/first-usports-club-session-5/
END:VEVENT
END:VCALENDAR