BEGIN:VCALENDAR
VERSION:2.0
PRODID:-//Queen Anne First School - ECPv4.9.8//NONSGML v1.0//EN
CALSCALE:GREGORIAN
METHOD:PUBLISH
X-WR-CALNAME:Queen Anne First School
X-ORIGINAL-URL:https://www.queenannefirstschool.org.uk
X-WR-CALDESC:Events for Queen Anne First School
BEGIN:VTIMEZONE
TZID:UTC
BEGIN:STANDARD
TZOFFSETFROM:+0000
TZOFFSETTO:+0000
TZNAME:UTC
DTSTART:20250101T000000
END:STANDARD
END:VTIMEZONE
BEGIN:VEVENT
DTSTART;TZID="UTC":20250912T080000
DTEND;TZID="UTC":20250912T084500
DTSTAMP:20260422T140114
CREATED:20250612T163720Z
LAST-MODIFIED:20250612T163720Z
UID:5661-1757664000-1757666700@www.queenannefirstschool.org.uk
SUMMARY:First Samurai Kickboxing Club Session
DESCRIPTION:
URL:https://www.queenannefirstschool.org.uk/event/first-samurai-kickboxing-club-session-13/
END:VEVENT
END:VCALENDAR