BEGIN:VCALENDAR
VERSION:2.0
PRODID:-//Queen Anne First School - ECPv4.9.8//NONSGML v1.0//EN
CALSCALE:GREGORIAN
METHOD:PUBLISH
X-WR-CALNAME:Queen Anne First School
X-ORIGINAL-URL:https://www.queenannefirstschool.org.uk
X-WR-CALDESC:Events for Queen Anne First School
BEGIN:VTIMEZONE
TZID:UTC
BEGIN:STANDARD
TZOFFSETFROM:+0000
TZOFFSETTO:+0000
TZNAME:UTC
DTSTART:20250101T000000
END:STANDARD
END:VTIMEZONE
BEGIN:VEVENT
DTSTART;TZID="UTC":20251217T120000
DTEND;TZID="UTC":20251217T130000
DTSTAMP:20260422T140438
CREATED:20251007T104810Z
LAST-MODIFIED:20251007T104810Z
UID:5786-1765972800-1765976400@www.queenannefirstschool.org.uk
SUMMARY:Christmas lunch for children
DESCRIPTION:
URL:https://www.queenannefirstschool.org.uk/event/christmas-lunch-for-children-3/
END:VEVENT
END:VCALENDAR