BEGIN:VCALENDAR
VERSION:2.0
PRODID:-//Queen Anne First School - ECPv4.9.8//NONSGML v1.0//EN
CALSCALE:GREGORIAN
METHOD:PUBLISH
X-WR-CALNAME:Queen Anne First School
X-ORIGINAL-URL:https://www.queenannefirstschool.org.uk
X-WR-CALDESC:Events for Queen Anne First School
BEGIN:VTIMEZONE
TZID:UTC
BEGIN:STANDARD
TZOFFSETFROM:+0000
TZOFFSETTO:+0000
TZNAME:UTC
DTSTART:20250101T000000
END:STANDARD
END:VTIMEZONE
BEGIN:VEVENT
DTSTART;TZID="UTC":20251203T140000
DTEND;TZID="UTC":20251203T143000
DTSTAMP:20260420T062714
CREATED:20251007T103729Z
LAST-MODIFIED:20251007T104019Z
UID:5774-1764770400-1764772200@www.queenannefirstschool.org.uk
SUMMARY:Christingle @ All Saint's Church
DESCRIPTION:At All Saints’ Church\, Frances Road\, Windsor.  All parents welcome. \n  \n
URL:https://www.queenannefirstschool.org.uk/event/christingle-all-saints-church/
END:VEVENT
END:VCALENDAR